BEGIN:VCALENDAR
VERSION:2.0
PRODID:SchoolNow
CALSCALE:GREGORIAN
BEGIN:VEVENT
UID:6d08753c-6339-11ef-8866-0a58a9feac02
DTSTAMP:20251216T154517Z
SUMMARY:Jazz Band Rehearsal
LOCATION:Band Room
URL;VALUE=URI:https://www.dg58.org/on/calendar/6459025/jazz-band-rehearsal
DTSTART:20251007T120000Z
DTEND:20251007T124500Z
END:VEVENT
END:VCALENDAR
