BEGIN:VCALENDAR
VERSION:2.0
PRODID:SchoolNow
CALSCALE:GREGORIAN
BEGIN:VEVENT
UID:6d087140-6339-11ef-b668-0a58a9feac02
DTSTAMP:20251216T154517Z
SUMMARY:Jazz Band Rehearsal
LOCATION:Band Room
URL;VALUE=URI:https://www.dg58.org/on/calendar/6459021/jazz-band-rehearsal
DTSTART:20250909T120000Z
DTEND:20250909T124500Z
END:VEVENT
END:VCALENDAR
