BEGIN:VCALENDAR
VERSION:2.0
PRODID:SchoolNow
CALSCALE:GREGORIAN
BEGIN:VEVENT
UID:4ace8a42-dc02-11ee-bb01-02aad83ffedf
DTSTAMP:20251216T154518Z
SUMMARY:National School Psychologist Week
URL;VALUE=URI:https://www.dg58.org/on/calendar/5480974/national-school-psyc
 hologist-week
DTSTART;VALUE=DATE:20251103
DTEND;VALUE=DATE:20251108
END:VEVENT
END:VCALENDAR
