BEGIN:VCALENDAR
VERSION:2.0
PRODID:SchoolNow
CALSCALE:GREGORIAN
BEGIN:VEVENT
UID:4ec23340-c54d-11ee-ad66-0ecbdf8a0e33
DTSTAMP:20251216T154517Z
SUMMARY:National Custodial Workers Day
URL;VALUE=URI:https://www.dg58.org/on/calendar/5275045/national-custodial-w
 orkers-day
DTSTART;VALUE=DATE:20251002
DTEND;VALUE=DATE:20251003
END:VEVENT
END:VCALENDAR
