BEGIN:VCALENDAR
VERSION:2.0
PRODID:SchoolNow
CALSCALE:GREGORIAN
BEGIN:VEVENT
UID:8a59832c-c04b-11f0-a6a6-0affd1cfcaa7
DTSTAMP:20251216T154512Z
SUMMARY:Board of Education: Regular Board Meeting
URL;VALUE=URI:https://www.dg58.org/hp/calendar/8792880/board-of-education-r
 egular-board-meeting
DTSTART:20270713T000000Z
DTEND:20270713T030000Z
END:VEVENT
END:VCALENDAR
