BEGIN:VCALENDAR
VERSION:2.0
PRODID:SchoolNow
CALSCALE:GREGORIAN
BEGIN:VEVENT
UID:7a0916ca-ab7b-11f0-8c8f-0a58a9feac02
DTSTAMP:20251216T154512Z
SUMMARY:HP Music Performance (1st & 2nd Grade)
URL;VALUE=URI:https://www.dg58.org/hp/calendar/8729629/hp-music-performance
 -1st-2nd-grade
DTSTART:20251113T000000Z
DTEND:20251113T010000Z
END:VEVENT
END:VCALENDAR
