BEGIN:VCALENDAR
VERSION:2.0
PRODID:SchoolNow
CALSCALE:GREGORIAN
BEGIN:VEVENT
UID:7a0915da-ab7b-11f0-9cf1-0a58a9feac02
DTSTAMP:20251216T154512Z
SUMMARY:Halloween Parties - 1st-6th Grades
URL;VALUE=URI:https://www.dg58.org/hp/calendar/8729628/halloween-parties-1s
 t-6th-grades
DTSTART:20251031T190000Z
DTEND:20251031T195000Z
END:VEVENT
END:VCALENDAR
