BEGIN:VCALENDAR
VERSION:2.0
PRODID:SchoolNow
CALSCALE:GREGORIAN
BEGIN:VEVENT
UID:7a0914ea-ab7b-11f0-8690-0a58a9feac02
DTSTAMP:20251216T154512Z
SUMMARY:Halloween Parade - 1st-6th Grades
URL;VALUE=URI:https://www.dg58.org/hp/calendar/8729627/halloween-parade-1st
 -6th-grades
DTSTART:20251031T184500Z
DTEND:20251031T190000Z
END:VEVENT
END:VCALENDAR
