BEGIN:VCALENDAR
VERSION:2.0
PRODID:SchoolNow
CALSCALE:GREGORIAN
BEGIN:VEVENT
UID:7a0913e6-ab7b-11f0-adc1-0a58a9feac02
DTSTAMP:20251216T154512Z
SUMMARY:Kindergarten Halloween Party
URL;VALUE=URI:https://www.dg58.org/hp/calendar/8729626/kindergarten-hallowe
 en-party
DTSTART:20251031T134500Z
DTEND:20251031T144500Z
END:VEVENT
END:VCALENDAR
