BEGIN:VCALENDAR
VERSION:2.0
PRODID:SchoolNow
CALSCALE:GREGORIAN
BEGIN:VEVENT
UID:7a09129c-ab7b-11f0-b840-0a58a9feac02
DTSTAMP:20251216T154512Z
SUMMARY:PTA Meeting
URL;VALUE=URI:https://www.dg58.org/hp/calendar/8729625/pta-meeting
DTSTART:20251031T000000Z
DTEND:20251031T010000Z
END:VEVENT
END:VCALENDAR
