BEGIN:VCALENDAR
VERSION:2.0
PRODID:SchoolNow
CALSCALE:GREGORIAN
BEGIN:VEVENT
UID:7a090f4a-ab7b-11f0-b92e-0a58a9feac02
DTSTAMP:20251216T154512Z
SUMMARY:Kindergarten Halloween Parade
URL;VALUE=URI:https://www.dg58.org/hp/calendar/8729624/kindergarten-hallowe
 en-parade
DTSTART:20251031T132500Z
DTEND:20251031T134000Z
END:VEVENT
END:VCALENDAR
