BEGIN:VCALENDAR
VERSION:2.0
PRODID:SchoolNow
CALSCALE:GREGORIAN
BEGIN:VEVENT
UID:7e2d6b62-972a-11f0-89a1-020322f7a485
DTSTAMP:20251216T154512Z
SUMMARY:Kindergarten Round-Up
URL;VALUE=URI:https://www.dg58.org/hp/calendar/8650130/kindergarten-round-u
 p
DTSTART:20270311T000000Z
DTEND:20270311T013000Z
END:VEVENT
END:VCALENDAR
