BEGIN:VCALENDAR
VERSION:2.0
PRODID:SchoolNow
CALSCALE:GREGORIAN
BEGIN:VEVENT
UID:dfd36b06-8ffe-11f0-85cf-0a58a9feac02
DTSTAMP:20251216T154512Z
SUMMARY:Board of Education: Regular Board Meeting
URL;VALUE=URI:https://www.dg58.org/hp/calendar/8613959/board-of-education-r
 egular-board-meeting
DTSTART:20270511T000000Z
DTEND:20270511T030000Z
END:VEVENT
END:VCALENDAR
