BEGIN:VCALENDAR
VERSION:2.0
PRODID:SchoolNow
CALSCALE:GREGORIAN
BEGIN:VEVENT
UID:33c53dc6-89d2-11f0-9ad4-0a58a9feac02
DTSTAMP:20251216T154512Z
SUMMARY:Fun Lunch - Culver's
URL;VALUE=URI:https://www.dg58.org/hp/calendar/8581392/fun-lunch-culvers
DTSTART;VALUE=DATE:20260424
DTEND;VALUE=DATE:20260425
END:VEVENT
END:VCALENDAR
