BEGIN:VCALENDAR
VERSION:2.0
PRODID:SchoolNow
CALSCALE:GREGORIAN
BEGIN:VEVENT
UID:33c53b46-89d2-11f0-945b-0a58a9feac02
DTSTAMP:20251216T154512Z
SUMMARY:Fun Lunch - Chick-Fil-A
URL;VALUE=URI:https://www.dg58.org/hp/calendar/8581391/fun-lunch-chick-fil-
 a
DTSTART;VALUE=DATE:20260220
DTEND;VALUE=DATE:20260221
END:VEVENT
END:VCALENDAR
