BEGIN:VCALENDAR
VERSION:2.0
PRODID:SchoolNow
CALSCALE:GREGORIAN
BEGIN:VEVENT
UID:33c53a38-89d2-11f0-9a66-0a58a9feac02
DTSTAMP:20251216T154512Z
SUMMARY:Fun Lunch - Domino's
URL;VALUE=URI:https://www.dg58.org/hp/calendar/8581390/fun-lunch-dominos
DTSTART;VALUE=DATE:20251212
DTEND;VALUE=DATE:20251213
END:VEVENT
END:VCALENDAR
