BEGIN:VCALENDAR
VERSION:2.0
PRODID:SchoolNow
CALSCALE:GREGORIAN
BEGIN:VEVENT
UID:935130fa-820d-11f0-8c95-02240390e315
DTSTAMP:20251216T154512Z
SUMMARY:Board of Education: Regular Board Meeting
URL;VALUE=URI:https://www.dg58.org/hp/calendar/8542906/board-of-education-r
 egular-board-meeting
DTSTART:20260811T000000Z
DTEND:20260811T030000Z
END:VEVENT
END:VCALENDAR
