BEGIN:VCALENDAR
VERSION:2.0
PRODID:SchoolNow
CALSCALE:GREGORIAN
BEGIN:VEVENT
UID:935128c6-820d-11f0-bdb1-02240390e315
DTSTAMP:20251216T154512Z
SUMMARY:Board of Education: Regular Board Meeting
URL;VALUE=URI:https://www.dg58.org/hp/calendar/8542897/board-of-education-r
 egular-board-meeting
DTSTART:20251111T010000Z
DTEND:20251111T040000Z
END:VEVENT
END:VCALENDAR
