BEGIN:VCALENDAR
VERSION:2.0
PRODID:SchoolNow
CALSCALE:GREGORIAN
BEGIN:VEVENT
UID:935117d2-820d-11f0-9a3a-02240390e315
DTSTAMP:20251216T154512Z
SUMMARY:Board of Education: Regular Board Meeting
URL;VALUE=URI:https://www.dg58.org/hp/calendar/8542879/board-of-education-r
 egular-board-meeting
DTSTART:20260310T000000Z
DTEND:20260310T030000Z
END:VEVENT
END:VCALENDAR
