BEGIN:VCALENDAR
VERSION:2.0
PRODID:SchoolNow
CALSCALE:GREGORIAN
BEGIN:VEVENT
UID:9351166a-820d-11f0-8c59-02240390e315
DTSTAMP:20251216T154512Z
SUMMARY:Board of Education: Regular Board Meeting
URL;VALUE=URI:https://www.dg58.org/hp/calendar/8542878/board-of-education-r
 egular-board-meeting
DTSTART:20260210T010000Z
DTEND:20260210T040000Z
END:VEVENT
END:VCALENDAR
