BEGIN:VCALENDAR
VERSION:2.0
PRODID:SchoolNow
CALSCALE:GREGORIAN
BEGIN:VEVENT
UID:93510350-820d-11f0-afbb-02240390e315
DTSTAMP:20251216T154512Z
SUMMARY:Active Threat Drill #2
URL;VALUE=URI:https://www.dg58.org/hp/calendar/8542870/active-threat-drill-
 2
DTSTART:20251030T185000Z
DTEND:20251030T191000Z
END:VEVENT
END:VCALENDAR
