BEGIN:VCALENDAR
VERSION:2.0
PRODID:SchoolNow
CALSCALE:GREGORIAN
BEGIN:VEVENT
UID:93510184-820d-11f0-8ac1-02240390e315
DTSTAMP:20251216T154512Z
SUMMARY:School Assembly - kdg-3rd Grade
URL;VALUE=URI:https://www.dg58.org/hp/calendar/8542868/school-assembly-kdg-
 3rd-grade
DTSTART:20251029T140000Z
DTEND:20251029T143000Z
END:VEVENT
END:VCALENDAR
