BEGIN:VCALENDAR
VERSION:2.0
PRODID:SchoolNow
CALSCALE:GREGORIAN
BEGIN:VEVENT
UID:9350febe-820d-11f0-a8ae-02240390e315
DTSTAMP:20251216T154512Z
SUMMARY:PTA Bingo Night
URL;VALUE=URI:https://www.dg58.org/hp/calendar/8542865/pta-bingo-night
DTSTART:20251017T233000Z
DTEND:20251018T013000Z
END:VEVENT
END:VCALENDAR
