BEGIN:VCALENDAR
VERSION:2.0
PRODID:SchoolNow
CALSCALE:GREGORIAN
BEGIN:VEVENT
UID:9350f266-820d-11f0-bf6b-02240390e315
DTSTAMP:20251216T154512Z
SUMMARY:PICTURE DAY
URL;VALUE=URI:https://www.dg58.org/hp/calendar/8542859/picture-day
DTSTART;VALUE=DATE:20251009
DTEND;VALUE=DATE:20251010
END:VEVENT
END:VCALENDAR
