BEGIN:VCALENDAR
VERSION:2.0
PRODID:SchoolNow
CALSCALE:GREGORIAN
BEGIN:VEVENT
UID:9350f162-820d-11f0-a665-02240390e315
DTSTAMP:20251216T154512Z
SUMMARY:Outdoor Education: 5th Grade Henry Puffer - Covenant Harbor
URL;VALUE=URI:https://www.dg58.org/hp/calendar/8542858/outdoor-education-5t
 h-grade-henry-puffer-covenant-harbor
DTSTART:20251007T130000Z
DTEND:20251008T010000Z
END:VEVENT
END:VCALENDAR
