BEGIN:VCALENDAR
VERSION:2.0
PRODID:SchoolNow
CALSCALE:GREGORIAN
BEGIN:VEVENT
UID:7bfdfe1a-3f5e-11f1-ba41-0ecf64333265
DTSTAMP:20260424T160549Z
SUMMARY:DLP Field Trip
LOCATION:St. James Farm Forest Preserve\, 2S541 Winfield Rd\, Warrenville\,
  IL 60555\, USA
URL;VALUE=URI:https://www.dg58.org/hl/calendar/9014025/dlp-field-trip
DTSTART:20260508T133000Z
DTEND:20260508T190000Z
END:VEVENT
END:VCALENDAR
