BEGIN:VCALENDAR
VERSION:2.0
PRODID:SchoolNow
CALSCALE:GREGORIAN
BEGIN:VEVENT
UID:dd516d36-3799-11f1-a6a7-0e6ce3cebca1
DTSTAMP:20260424T100045Z
SUMMARY:Variety Show
URL;VALUE=URI:https://www.dg58.org/hl/calendar/8991711/variety-show
DTSTART:20260418T150000Z
DTEND:20260418T163000Z
END:VEVENT
END:VCALENDAR
