BEGIN:VCALENDAR
VERSION:2.0
PRODID:SchoolNow
CALSCALE:GREGORIAN
BEGIN:VEVENT
UID:2c80e2d0-2a0f-11f1-9f0c-02112f9c42cb
DTSTAMP:20260424T160549Z
SUMMARY:6th Gr HL 3D Printing Club
URL;VALUE=URI:https://www.dg58.org/hl/calendar/8950198/6th-gr-hl-3d-printin
 g-club
DTSTART:20260507T200000Z
DTEND:20260507T204500Z
END:VEVENT
END:VCALENDAR
