BEGIN:VCALENDAR
VERSION:2.0
PRODID:SchoolNow
CALSCALE:GREGORIAN
BEGIN:VEVENT
UID:2c80dcb8-2a0f-11f1-a844-02112f9c42cb
DTSTAMP:20260424T100045Z
SUMMARY:5th Gr HL 3D Printing Club
URL;VALUE=URI:https://www.dg58.org/hl/calendar/8950194/5th-gr-hl-3d-printin
 g-club
DTSTART:20260421T200000Z
DTEND:20260421T204500Z
END:VEVENT
END:VCALENDAR
