BEGIN:VCALENDAR
VERSION:2.0
PRODID:SchoolNow
CALSCALE:GREGORIAN
BEGIN:VEVENT
UID:2c80d70e-2a0f-11f1-bb0d-02112f9c42cb
DTSTAMP:20260424T160549Z
SUMMARY:5th Gr HL 3D Printing Club
URL;VALUE=URI:https://www.dg58.org/hl/calendar/8950191/5th-gr-hl-3d-printin
 g-club
DTSTART:20260512T200000Z
DTEND:20260512T204500Z
END:VEVENT
END:VCALENDAR
