BEGIN:VCALENDAR
VERSION:2.0
PRODID:SchoolNow
CALSCALE:GREGORIAN
BEGIN:VEVENT
UID:758a6fbc-247b-11f1-a18c-0a58a9feac02
DTSTAMP:20260424T160549Z
SUMMARY:Art & Tech Club
LOCATION:Activity Room
URL;VALUE=URI:https://www.dg58.org/hl/calendar/8932820/art-tech-club
DTSTART:20260512T200000Z
DTEND:20260512T204000Z
END:VEVENT
END:VCALENDAR
