BEGIN:VCALENDAR
VERSION:2.0
PRODID:SchoolNow
CALSCALE:GREGORIAN
BEGIN:VEVENT
UID:758a6da0-247b-11f1-abc6-0a58a9feac02
DTSTAMP:20260424T160549Z
SUMMARY:Art & Tech Club
LOCATION:Activity Room
URL;VALUE=URI:https://www.dg58.org/hl/calendar/8932819/art-tech-club
DTSTART:20260505T200000Z
DTEND:20260505T204000Z
END:VEVENT
END:VCALENDAR
