BEGIN:VCALENDAR
VERSION:2.0
PRODID:SchoolNow
CALSCALE:GREGORIAN
BEGIN:VEVENT
UID:758a6ca6-247b-11f1-b4aa-0a58a9feac02
DTSTAMP:20260424T100046Z
SUMMARY:Art & Tech Club
LOCATION:Activity Room
URL;VALUE=URI:https://www.dg58.org/hl/calendar/8932818/art-tech-club
DTSTART:20260428T200000Z
DTEND:20260428T204000Z
END:VEVENT
END:VCALENDAR
