BEGIN:VCALENDAR
VERSION:2.0
PRODID:SchoolNow
CALSCALE:GREGORIAN
BEGIN:VEVENT
UID:758a6b98-247b-11f1-89f7-0a58a9feac02
DTSTAMP:20260424T100046Z
SUMMARY:Art & Tech Club
LOCATION:Activity Room
URL;VALUE=URI:https://www.dg58.org/hl/calendar/8932817/art-tech-club
DTSTART:20260421T200000Z
DTEND:20260421T204000Z
END:VEVENT
END:VCALENDAR
