BEGIN:VCALENDAR
VERSION:2.0
PRODID:SchoolNow
CALSCALE:GREGORIAN
BEGIN:VEVENT
UID:753535ba-247b-11f1-b7f2-0a58a9feac02
DTSTAMP:20260424T100046Z
SUMMARY:6th Grade Holocaust Field Trip
LOCATION:Downers Grove Public Library\, 1050 Curtiss St\, Downers Grove\, I
 L 60515\, USA
URL;VALUE=URI:https://www.dg58.org/hl/calendar/8932814/6th-grade-holocaust-
 field-trip
DTSTART:20260420T154500Z
DTEND:20260420T171000Z
END:VEVENT
END:VCALENDAR
