BEGIN:VCALENDAR
VERSION:2.0
PRODID:SchoolNow
CALSCALE:GREGORIAN
BEGIN:VEVENT
UID:a3b887e8-217e-11f1-b11b-0e496aa45fdd
DTSTAMP:20260424T160549Z
SUMMARY:Earth & Garden Club
URL;VALUE=URI:https://www.dg58.org/hl/calendar/8923041/earth-garden-club
DTSTART:20260514T200000Z
DTEND:20260514T204500Z
END:VEVENT
END:VCALENDAR
