BEGIN:VCALENDAR
VERSION:2.0
PRODID:SchoolNow
CALSCALE:GREGORIAN
BEGIN:VEVENT
UID:a3b886f8-217e-11f1-b8f3-0e496aa45fdd
DTSTAMP:20260424T160549Z
SUMMARY:Earth & Garden Club
URL;VALUE=URI:https://www.dg58.org/hl/calendar/8923040/earth-garden-club
DTSTART:20260507T200000Z
DTEND:20260507T204500Z
END:VEVENT
END:VCALENDAR
