BEGIN:VCALENDAR
VERSION:2.0
PRODID:SchoolNow
CALSCALE:GREGORIAN
BEGIN:VEVENT
UID:a3b88608-217e-11f1-aaaa-0e496aa45fdd
DTSTAMP:20260424T160549Z
SUMMARY:Earth & Garden Club
URL;VALUE=URI:https://www.dg58.org/hl/calendar/8923039/earth-garden-club
DTSTART:20260430T200000Z
DTEND:20260430T204500Z
END:VEVENT
END:VCALENDAR
