BEGIN:VCALENDAR
VERSION:2.0
PRODID:SchoolNow
CALSCALE:GREGORIAN
BEGIN:VEVENT
UID:a3b88504-217e-11f1-9c9d-0e496aa45fdd
DTSTAMP:20260424T160549Z
SUMMARY:Earth & Garden Club
URL;VALUE=URI:https://www.dg58.org/hl/calendar/8923038/earth-garden-club
DTSTART:20260423T200000Z
DTEND:20260423T204500Z
END:VEVENT
END:VCALENDAR
