BEGIN:VCALENDAR
VERSION:2.0
PRODID:SchoolNow
CALSCALE:GREGORIAN
BEGIN:VEVENT
UID:a3b88400-217e-11f1-a2b3-0e496aa45fdd
DTSTAMP:20260424T100046Z
SUMMARY:Earth & Garden Club
URL;VALUE=URI:https://www.dg58.org/hl/calendar/8923037/earth-garden-club
DTSTART:20260416T200000Z
DTEND:20260416T204500Z
END:VEVENT
END:VCALENDAR
