BEGIN:VCALENDAR
VERSION:2.0
PRODID:SchoolNow
CALSCALE:GREGORIAN
BEGIN:VEVENT
UID:bafbe398-1f1a-11f1-adb7-0affe5e110df
DTSTAMP:20260424T160549Z
SUMMARY:Pajama Day
URL;VALUE=URI:https://www.dg58.org/hl/calendar/8915537/pajama-day
DTSTART;VALUE=DATE:20260316
DTEND;VALUE=DATE:20260317
END:VEVENT
END:VCALENDAR
