BEGIN:VCALENDAR
VERSION:2.0
PRODID:SchoolNow
CALSCALE:GREGORIAN
BEGIN:VEVENT
UID:bafbe000-1f1a-11f1-83e1-0affe5e110df
DTSTAMP:20260424T160549Z
SUMMARY:World Down Syndrome Day Rock Your Socks!
URL;VALUE=URI:https://www.dg58.org/hl/calendar/8915536/world-down-syndrome-
 day-rock-your-socks
DTSTART;VALUE=DATE:20260320
DTEND;VALUE=DATE:20260321
END:VEVENT
END:VCALENDAR
