BEGIN:VCALENDAR
VERSION:2.0
PRODID:SchoolNow
CALSCALE:GREGORIAN
BEGIN:VEVENT
UID:2853e10c-1723-11f1-8645-0a58a9feac02
DTSTAMP:20260424T160549Z
SUMMARY:Fun Lunch - Connie's Pizza
URL;VALUE=URI:https://www.dg58.org/hl/calendar/8887145/fun-lunch-connies-pi
 zza
DTSTART;VALUE=DATE:20260522
DTEND;VALUE=DATE:20260523
END:VEVENT
END:VCALENDAR
