BEGIN:VCALENDAR
VERSION:2.0
PRODID:SchoolNow
CALSCALE:GREGORIAN
BEGIN:VEVENT
UID:9198475a-0e92-11f1-a6f5-029d9a8f2b4b
DTSTAMP:20260424T160549Z
SUMMARY:Art Club - Activity Rm
URL;VALUE=URI:https://www.dg58.org/hl/calendar/8862458/art-club-activity-rm
DTSTART:20260511T191500Z
DTEND:20260511T201500Z
END:VEVENT
END:VCALENDAR
