BEGIN:VCALENDAR
VERSION:2.0
PRODID:SchoolNow
CALSCALE:GREGORIAN
BEGIN:VEVENT
UID:9198452a-0e92-11f1-8b14-029d9a8f2b4b
DTSTAMP:20260424T100046Z
SUMMARY:Art Club - Activity Rm
URL;VALUE=URI:https://www.dg58.org/hl/calendar/8862456/art-club-activity-rm
DTSTART:20260427T191500Z
DTEND:20260427T201500Z
END:VEVENT
END:VCALENDAR
