BEGIN:VCALENDAR
VERSION:2.0
PRODID:SchoolNow
CALSCALE:GREGORIAN
BEGIN:VEVENT
UID:919843ea-0e92-11f1-b24d-029d9a8f2b4b
DTSTAMP:20260424T160549Z
SUMMARY:Art Club - Activity Rm
URL;VALUE=URI:https://www.dg58.org/hl/calendar/8862455/art-club-activity-rm
DTSTART:20260420T191500Z
DTEND:20260420T201500Z
END:VEVENT
END:VCALENDAR
