BEGIN:VCALENDAR
VERSION:2.0
PRODID:SchoolNow
CALSCALE:GREGORIAN
BEGIN:VEVENT
UID:9198403e-0e92-11f1-9d93-029d9a8f2b4b
DTSTAMP:20260424T160549Z
SUMMARY:Art Club - Activity Rm
URL;VALUE=URI:https://www.dg58.org/hl/calendar/8862454/art-club-activity-rm
DTSTART:20260413T191500Z
DTEND:20260413T201500Z
END:VEVENT
END:VCALENDAR
