BEGIN:VCALENDAR
VERSION:2.0
PRODID:SchoolNow
CALSCALE:GREGORIAN
BEGIN:VEVENT
UID:9149e1dc-0e92-11f1-920a-029d9a8f2b4b
DTSTAMP:20260424T100045Z
SUMMARY:5th Grade Field Trip
LOCATION:Feed My Starving Children\, 555 Exchange Ct\, Aurora\, IL 60504\, 
 USA
URL;VALUE=URI:https://www.dg58.org/hl/calendar/8862453/5th-grade-field-trip
DTSTART:20260429T154500Z
DTEND:20260429T184500Z
END:VEVENT
END:VCALENDAR
