BEGIN:VCALENDAR
VERSION:2.0
PRODID:SchoolNow
CALSCALE:GREGORIAN
BEGIN:VEVENT
UID:9149dfc0-0e92-11f1-9dec-029d9a8f2b4b
DTSTAMP:20260424T160549Z
SUMMARY:3rd Grade Boat Trip
URL;VALUE=URI:https://www.dg58.org/hl/calendar/8862452/3rd-grade-boat-trip
DTSTART:20260527T133000Z
DTEND:20260527T190000Z
END:VEVENT
END:VCALENDAR
