BEGIN:VCALENDAR
VERSION:2.0
PRODID:SchoolNow
CALSCALE:GREGORIAN
BEGIN:VEVENT
UID:9149de80-0e92-11f1-af9f-029d9a8f2b4b
DTSTAMP:20260424T160549Z
SUMMARY:DLP World of Reptiles Assembly
URL;VALUE=URI:https://www.dg58.org/hl/calendar/8862451/dlp-world-of-reptile
 s-assembly
DTSTART:20260522T150000Z
DTEND:20260522T160000Z
END:VEVENT
END:VCALENDAR
